{
 "currentVersion": 11.5,
 "cimVersion": "3.5.0",
 "serviceDescription": "2000 Sid ",
 "mapName": "Layers",
 "description": "",
 "copyrightText": "",
 "supportsDynamicLayers": true,
 "layers": [
  {
   "id": 0,
   "name": "Sid2000.sid",
   "parentLayerId": -1,
   "defaultVisibility": true,
   "subLayerIds": null,
   "minScale": 0,
   "maxScale": 0,
   "type": "Raster Layer",
   "supportsDynamicLegends": true
  }
 ],
 "tables": [],
 "spatialReference": {
  "wkid": 103404,
  "latestWkid": 8213,
  "xyTolerance": 0.0032808333333333335,
  "zTolerance": 2.0E-4,
  "mTolerance": 2.0E-4,
  "falseX": -18345200,
  "falseY": -48426700,
  "xyUnits": 1.3723875777431893E8,
  "falseZ": -100000,
  "zUnits": 10000,
  "falseM": -100000,
  "mUnits": 10000
 },
 "singleFusedMapCache": true,
 "tileInfo": {
  "rows": 256,
  "cols": 256,
  "dpi": 96,
  "format": "MIXED",
  "compressionQuality": 75,
  "origin": {
   "x": -18345200,
   "y": 1.7204899999999993E7
  },
  "spatialReference": {
   "wkid": 103404,
   "latestWkid": 8213,
   "xyTolerance": 0.0032808333333333335,
   "zTolerance": 2.0E-4,
   "mTolerance": 2.0E-4,
   "falseX": -18345200,
   "falseY": -48426700,
   "xyUnits": 1.3723875777431893E8,
   "falseZ": -100000,
   "zUnits": 10000,
   "falseM": -100000,
   "mUnits": 10000
  },
  "lods": [
   {
    "level": 0,
    "resolution": 55,
    "scale": 63360
   },
   {
    "level": 1,
    "resolution": 41.25,
    "scale": 47520
   },
   {
    "level": 2,
    "resolution": 27.5,
    "scale": 31680
   },
   {
    "level": 3,
    "resolution": 20.833333333333332,
    "scale": 24000
   },
   {
    "level": 4,
    "resolution": 13.75,
    "scale": 15840
   },
   {
    "level": 5,
    "resolution": 10.416666666666666,
    "scale": 12000
   },
   {
    "level": 6,
    "resolution": 8.333333333333332,
    "scale": 9600
   },
   {
    "level": 7,
    "resolution": 6.25,
    "scale": 7200
   },
   {
    "level": 8,
    "resolution": 5.208333333333333,
    "scale": 6000
   },
   {
    "level": 9,
    "resolution": 4.166666666666666,
    "scale": 4800
   },
   {
    "level": 10,
    "resolution": 3.125,
    "scale": 3600
   },
   {
    "level": 11,
    "resolution": 2.083333333333333,
    "scale": 2400
   },
   {
    "level": 12,
    "resolution": 1.5625,
    "scale": 1800
   },
   {
    "level": 13,
    "resolution": 1.0416666666666665,
    "scale": 1200
   },
   {
    "level": 14,
    "resolution": 0.625,
    "scale": 720
   },
   {
    "level": 15,
    "resolution": 0.41666666666666663,
    "scale": 480
   },
   {
    "level": 16,
    "resolution": 0.20833333333333331,
    "scale": 240
   }
  ]
 },
 "storageInfo": {
  "storageFormat": "esriMapCacheStorageModeCompactV2",
  "packetSize": 128
 },
 "initialExtent": {
  "xmin": 42876.20216216215,
  "ymin": 526766.8356756757,
  "xmax": 117323.79783783785,
  "ymax": 554401,
  "spatialReference": {
   "wkid": 103404,
   "latestWkid": 8213,
   "xyTolerance": 0.0032808333333333335,
   "zTolerance": 2.0E-4,
   "mTolerance": 2.0E-4,
   "falseX": -18345200,
   "falseY": -48426700,
   "xyUnits": 1.3723875777431893E8,
   "falseZ": -100000,
   "zUnits": 10000,
   "falseM": -100000,
   "mUnits": 10000
  }
 },
 "fullExtent": {
  "xmin": 58850,
  "ymin": 515110,
  "xmax": 101350,
  "ymax": 552530,
  "spatialReference": {
   "wkid": 103404,
   "latestWkid": 8213,
   "xyTolerance": 0.0032808333333333335,
   "zTolerance": 2.0E-4,
   "mTolerance": 2.0E-4,
   "falseX": -18345200,
   "falseY": -48426700,
   "xyUnits": 1.3723875777431893E8,
   "falseZ": -100000,
   "zUnits": 10000,
   "falseM": -100000,
   "mUnits": 10000
  }
 },
 "datesInUnknownTimezone": false,
 "minScale": 63360,
 "maxScale": 240,
 "units": "esriFeet",
 "supportedImageFormatTypes": "PNG32,PNG24,PNG,JPG,DIB,TIFF,EMF,PS,PDF,GIF,SVG,SVGZ,BMP",
 "documentInfo": {
  "Title": "Parcel",
  "Author": "bboyle",
  "Comments": "2014 Sid City/County",
  "Subject": "2014 Sid City/County",
  "Category": "",
  "Version": "10.1",
  "AntialiasingMode": "None",
  "TextAntialiasingMode": "Force",
  "Keywords": "2000 Sid "
 },
 "supportsQueryDomains": true,
 "capabilities": "Map,Query,Data",
 "supportedQueryFormats": "JSON, geoJSON, PBF",
 "exportTilesAllowed": false,
 "referenceScale": 0.0,
 "datumTransformations": [
  {
   "geoTransforms": [
    {
     "wkid": 108001,
     "latestWkid": 1241,
     "transformForward": true,
     "name": "NAD_1927_To_NAD_1983_NADCON"
    }
   ]
  },
  {
   "geoTransforms": [
    {
     "wkid": 108001,
     "latestWkid": 1241,
     "transformForward": false,
     "name": "NAD_1927_To_NAD_1983_NADCON"
    }
   ]
  }
 ],
 "supportsDatumTransformation": true,
 "archivingInfo": {
  "supportsHistoricMoment": false
 },
 "supportsClipping": true,
 "supportsSpatialFilter": true,
 "supportsTimeRelation": true,
 "supportsQueryDataElements": true,
 "mapUnits": {
  "uwkid": 9003
 },
 "maxSelectionCount": 2000,
 "maxRecordCount": 1000,
 "maxImageHeight": 4096,
 "maxImageWidth": 4096,
 "supportedExtensions": "",
 "serviceItemId": "0db732fbe3504d8aa189112caafcde38"
}
